{"text_format":"3","workbook":"xlsx","n_sheets":6,"sheets":["Мугай Расчет объ.2019","расчет 2020","расчет 2021","2019","2020","2021"],"not_rendered":{"defined_names":6},"read":"whole","date_system":"1900"}

{"sheet":"Мугай Расчет объ.2019","index":0,"n_rows":19,"n_cols":9,"rows_kept":19,"merged":[[0,7,0,8],[1,0,1,8],[2,0,2,8],[3,0,3,8],[4,0,5,0],[11,1,13,1],[11,2,13,2],[11,3,13,3],[11,4,13,4],[11,5,13,5],[11,6,13,6],[11,7,13,7],[11,8,13,8],[18,0,18,13]]}
[{"$nulls":7},"Приложение №1 "]
["МБОУ \"Мугайская ООШ\""]
["Нормативные затраты на оказание  муниципальных услуг (выполнение работ) на 2019 год "]
[]
["Наименование муниципальной услуги","Базовый норматив  затрат, непосредственно связанных с оказанием муниципальной услуги","Базовый норматив  затрат на общехозяйственные нужды","Территориальный коэффициент","Отраслевой коэффициент","Базовый норматив  затрат на оказание муниципальной услуги","Объем  муниципальной услуги","Затраты    на содержание имущества","Итого нормативные затраты на оказание  муниципальной услуги   "]
[null,"тыс. руб.  за единицу","тыс. руб.  за единицу",null,null,"тыс. руб.  за единицу","единиц","тыс. рублей","тыс. рублей"]
[1,2,3,4,5,6,7,8,9]
["Реализация программ начального общего образования",{"$f":"3622.5/G8","v":{"v":58.42741935483871,"d":"58.43"}},{"$f":"7025.3/G8","v":{"v":113.31129032258065,"d":"113.31"}},1,1,{"$f":"B8+C8","v":{"v":171.73870967741937,"d":"171.74"}},{"$f":"'2019'!C9","v":62},1498.8,{"$f":"(F8*G8)+H8","v":12146.6}]
["Реализация общеобразовательных программ основного общего образования",{"$f":"6293/G9","v":{"v":104.88333333333334,"d":"104.88"}},{"$f":"6798.7/G9","v":{"v":113.31166666666667,"d":"113.31"}},1,1,{"$f":"B9+C9","v":{"v":218.195,"d":"218.20"}},{"$f":"'2019'!C10","v":60},1450.4,{"$f":"(F9*G9)+H9","v":14542.099999999999}]
["Организация отдыха детей в каникулярное время",{"$f":"241.2/G10","v":{"v":3.7107692307692304,"d":"3.71"}},{"v":0,"d":"0.00"},1,1,{"$f":"B10+C10","v":{"v":3.7107692307692304,"d":"3.71"}},{"$f":"'2019'!C11","v":65},0,{"$f":"(F10*G10)+H10","v":241.2}]
["Организация питания обучающихся",{"$f":"762.8/G11","v":{"v":7.128971962616822,"d":"7.13"}},{"v":0,"d":"0.00"},1,1,{"$f":"B11+C11","v":{"v":7.128971962616822,"d":"7.13"}},{"$f":"'2019'!C12","v":107},0,{"$f":"(F11*G11)+H11","v":762.8}]
["Итого         ",{"v":105.3,"d":"105.30"},121.86,1,1,227.16,{"v":122,"d":"122.00"},{"$f":"H8+H9+H10+H11","v":{"v":2949.2,"d":"2949.20"}},{"$f":"I8+I9+I10+I11","v":{"v":27692.699999999997,"d":"27692.70"}}]
["на отчетный   "]
["финансовый год"]
[]
[]
[]
["[1] Определяется путем суммирования нормативных затрат, непосредственно связанных с оказанием муниципальной услуги (графа 2), и затрат на общехозяйственные нужды (графа 3)"]
["[2] Определяется путем суммирования произведения итогового объема нормативных затрат на оказание муниципальной услуги (графа 4) на объем муниципальной услуги (графа 5) с затратами на содержание имущества (графа 6)"]

{"sheet":"расчет 2020","index":1,"n_rows":19,"n_cols":9,"rows_kept":19,"merged":[[0,7,0,8],[1,0,1,8],[2,0,2,8],[4,0,5,0],[11,1,13,1],[11,2,13,2],[11,3,13,3],[11,4,13,4],[11,5,13,5],[11,6,13,6],[11,7,13,7],[11,8,13,8],[18,0,18,13]]}
[{"$nulls":7},"Приложение №2"]
["МБОУ \"Мугайская ООШ\""]
["Нормативные затраты на оказание муниципальных услуг (выполнением работ) на 2020 год "]
[]
["Наименование муниципальной услуги","Базовый норматив затрат, непосредственно связанных с оказанием муниципальной услуги","Базовый норматив затрат на общехозяйственные нужды","Территориальный коэффициент","Отраслевой коэффициент","Базовый     норматив затрат на оказание муниципальной услуги","Объем  муниципальной услуги","Затраты    на содержание имущества","Итого нормативные затраты на оказание  муниципальной услуги   "]
[null,"тыс. руб.  за единицу","тыс. руб.  за единицу",null,null,"тыс. руб.  за единицу","единиц","тыс. рублей","тыс. рублей"]
[1,2,3,4,5,6,7,8,9]
["Реализация программ начального общего образования",{"$f":"4298.4/G8","v":{"v":74.1103448275862,"d":"74.11"}},{"$f":"5952/G8","v":{"v":102.62068965517241,"d":"102.62"}},1,1,{"$f":"B8+C8","v":{"v":176.73103448275862,"d":"176.73"}},{"$f":"'2020'!C8","v":58},1606,{"$f":"(F8*G8)+H8","v":11856.4}]
["Реализация общеобразовательных программ основного общего образования",{"$f":"7843.7/G9","v":{"v":147.99433962264152,"d":"147.99"}},{"$f":"5438.9/G9","v":{"v":102.62075471698112,"d":"102.62"}},1,1,{"$f":"B9+C9","v":{"v":250.61509433962266,"d":"250.62"}},{"$f":"'2020'!C9","v":53},1467.6,{"$f":"(F9*G9)+H9","v":14750.2}]
["Организация отдыха детей в каникулярное время",{"$f":"312.9/G10","v":{"v":4.966666666666666,"d":"4.97"}},{"v":0,"d":"0.00"},1,1,{"$f":"B10+C10","v":{"v":4.966666666666666,"d":"4.97"}},{"$f":"'2020'!C10","v":63},0,{"$f":"(F10*G10)+H10","v":312.9}]
["Организация питания обучающихся",{"$f":"909.3/G11","v":{"v":9.57157894736842,"d":"9.57"}},{"v":0,"d":"0.00"},1,1,{"$f":"B11+C11","v":{"v":9.57157894736842,"d":"9.57"}},{"$f":"'2020'!C11","v":95},0,{"$f":"(F11*G11)+H11","v":909.3}]
["Итого         ",{"v":120.4,"d":"120.40"},102.62,1,1,223.02,{"v":111,"d":"111.00"},{"$f":"H8+H9+H10","v":{"v":3073.6,"d":"3073.60"}},{"$f":"I8+I9+I10+I11","v":{"v":27828.8,"d":"27828.80"}}]
["на отчетный   "]
["финансовый год"]
[]
[]
[]
["[1] Определяется путем суммирования нормативных затрат, непосредственно связанных с оказанием муниципальной услуги (графа 2), и затрат на общехозяйственные нужды (графа 3)"]
["[2] Определяется путем суммирования произведения итогового объема нормативных затрат на оказание муниципальной услуги (графа 4) на объем муниципальной услуги (графа 5) с затратами на содержание имущества (графа 6)"]

{"sheet":"расчет 2021","index":2,"n_rows":18,"n_cols":9,"rows_kept":18,"merged":[[0,7,0,8],[1,0,1,8],[2,0,2,8],[3,0,4,0],[10,1,12,1],[10,2,12,2],[10,3,12,3],[10,4,12,4],[10,5,12,5],[10,6,12,6],[10,7,12,7],[10,8,12,8],[17,0,17,13]]}
[{"$nulls":7},"Приложение №3 "]
["МБОУ \"Мугайская ООШ\""]
["Нормативные затраты на оказание муниципальных услуг (выполнение работ) на 2021 год "]
["Наименование муниципальной услуги","Базовый норматив затрат, непосредственно связанных с оказанием муниципальной услуги","Базовый норматив затрат на общехозяйственные нужды","Территориальный коэффициент","отраслевой коэффициент","Базовый     норматив затрат на оказание муниципальной услуги","Объем  муниципальной услуги","Затраты    на содержание имущества","Итого нормативные затраты на оказание  муниципальной услуги   "]
[null,"тыс. руб.  за единицу","тыс. руб.  за единицу",null,null,"тыс. руб.  за единицу","единиц","тыс. рублей","тыс. рублей"]
[1,2,3,4,5,6,7,8,9]
["Реализация программ начального общего образования",{"$f":"4471.4/G7","v":{"v":77.09310344827585,"d":"77.09"}},{"$f":"6089.3/G7","v":{"v":104.98793103448276,"d":"104.99"}},1,1,{"$f":"B7+C7","v":{"v":182.0810344827586,"d":"182.08"}},{"$f":"'2021'!C8","v":58},1585.3,{"$f":"(F7*G7)+H7","v":12145.999999999998}]
["Реализация общеобразовательных программ основного общего образования",{"$f":"8167.4/G8","v":{"v":145.84642857142856,"d":"145.85"}},{"$f":"5879.3/G8","v":{"v":104.9875,"d":"104.99"}},1,1,{"$f":"B8+C8","v":{"v":250.83392857142854,"d":"250.83"}},{"$f":"'2021'!C9","v":56},1530.7,15577.3]
["Организация отдыха детей в каникулярное время",{"$f":"327.8/G9","v":{"v":5.463333333333334,"d":"5.46"}},{"v":0,"d":"0.00"},1,1,{"$f":"B9+C9","v":{"v":5.463333333333334,"d":"5.46"}},{"$f":"'2021'!C10","v":60},0,{"$f":"(F9*G9)+H9","v":327.8}]
["Организация питания обучающихся",{"$f":"909.3/G10","v":{"v":9.278571428571428,"d":"9.28"}},{"v":0,"d":"0.00"},1,1,{"$f":"B10+C10","v":{"v":9.278571428571428,"d":"9.28"}},{"$f":"'2021'!C11","v":98},0,{"$f":"(F10*G10)+H10","v":909.3}]
["Итого         ",121.71,104.99,1,1,{"v":226.7,"d":"226.70"},{"v":114,"d":"114.00"},{"$f":"H7+H8+H9+H10","v":{"v":3116,"d":"3116.00"}},{"$f":"I7+I8+I9+I10","v":{"v":28960.399999999994,"d":"28960.40"}}]
["на отчетный   "]
["финансовый год"]
[]
[]
[]
["[1] Определяется путем суммирования нормативных затрат, непосредственно связанных с оказанием муниципальной услуги (графа 2), и затрат на общехозяйственные нужды (графа 3)"]
["[2] Определяется путем суммирования произведения итогового объема нормативных затрат на оказание муниципальной услуги (графа 4) на объем муниципальной услуги (графа 5) с затратами на содержание имущества (графа 6)"]

{"sheet":"2019","index":3,"n_rows":18,"n_cols":25,"rows_kept":18,"merged":[[0,0,0,24],[1,0,1,24],[2,0,2,24],[3,0,3,17],[4,0,4,24],[6,0,7,0],[6,1,7,1],[6,2,7,2],[6,3,6,10],[6,11,6,19],[6,20,6,23],[6,24,7,24]]}
[]
["                                                                                                                                                                                                          Приложение №4"]
[]
["МБОУ \"Мугайская ООШ\""]
["Распределение нормативных затрат на 2019г."]
[]
["наименование услуги","доля в %","кол. Учащ.","нормативные затраты, непосредственно связанные с оказанием муниц.услуги",{"$nulls":7},"Нормативные затраты на общехозяйственные нужды",{"$nulls":8},"Затраты    на содержание имущества",{"$nulls":3},"нормативные затраты на оказание услуг"]
[{"$nulls":3},"з/пл. за год + начисления учителей",null,"подвоз учащихся","продукты питания","учебные расходы","интернет",null,"итого","з/пл. за год + начисления прочего персонала","услуги связи","электроэнергия 90%","Теплоэнергия 50%","прочие ком. Услуги","расходы на содержание имущества","прочие услуги","приобретение материалов","итого","электроэнергия 10%","Теплоэнергия 50%","прочие расходы","итого"]
["Реализация программ начального общего образования",{"$f":"C9*100/122/100","v":{"v":0.5081967213114754,"d":"50.8%"}},62,{"$f":"3949.7-500","v":3449.7},{"$nulls":3},{"$f":"H15*B9","v":{"v":158.4049180327869,"d":"158.4"}},{"$f":"I15*B9","v":{"v":14.381967213114756,"d":"14.4"}},null,{"$f":"SUM(D9:J9)","v":{"v":3622.4868852459017,"d":"3622.5"}},{"$f":"L15*B9","v":{"v":2895.654098360656,"d":"2895.7"}},{"$f":"M15*B9","v":{"v":6.0983606557377055,"d":"6.1"}},{"$f":"N15*B9","v":{"v":205.1590163934426,"d":"205.2"}},{"$f":"O15*B9","v":1474.4819672131148},{"$f":"P15*B9","v":{"v":23.37704918032787,"d":"23.4"}},{"$f":"Q15*B9","v":{"v":2085.6393442622953,"d":"2085.6"}},{"$f":"R15*B9","v":{"v":116.88524590163935,"d":"116.9"}},{"$f":"S15*B9","v":{"v":218.01639344262296,"d":"218.0"}},{"$f":"SUM(L9:S9)","v":{"v":7025.311475409838,"d":"7025.3"}},{"$f":"U15*B9","v":{"v":22.767213114754096,"d":"22.8"}},{"$f":"V15*B9","v":1474.4819672131148},{"$f":"W15*B9","v":{"v":1.5245901639344264,"d":"1.5"}},{"$f":"SUM(U9:W9)","v":{"v":1498.7737704918031,"d":"1498.8"}},{"$f":"K9+T9+X9","v":{"v":12146.572131147543,"d":"12146.6"}}]
["Реализация общеобразовательных программ основного общего образования",{"$f":"C10*100/122/100","v":{"v":0.4918032786885246,"d":"49.2%"}},60,{"$f":"7340.1-1250","v":6090.1},null,35.7,null,{"$f":"H15*B10","v":{"v":153.2950819672131,"d":"153.3"}},{"$f":"I15*B10","v":{"v":13.918032786885245,"d":"13.9"}},null,{"$f":"SUM(D10:J10)","v":{"v":6293.013114754099,"d":"6293.0"}},{"$f":"L15*B10","v":{"v":2802.2459016393445,"d":"2802.2"}},{"$f":"M15*B10","v":{"v":5.9016393442622945,"d":"5.9"}},{"$f":"N15*B10","v":{"v":198.54098360655738,"d":"198.5"}},{"$f":"O15*B10","v":1426.9180327868853},{"$f":"P15*B10","v":{"v":22.62295081967213,"d":"22.6"}},{"$f":"Q15*B10","v":{"v":2018.360655737705,"d":"2018.4"}},{"$f":"R15*B10","v":{"v":113.11475409836065,"d":"113.1"}},{"$f":"S15*B10","v":{"v":210.98360655737704,"d":"211.0"}},{"$f":"SUM(L10:S10)","v":{"v":6798.688524590164,"d":"6798.7"}},{"$f":"U15*B10","v":{"v":22.0327868852459,"d":"22.0"}},{"$f":"V15*B10","v":1426.9180327868853},{"$f":"W15*B10","v":{"v":1.4754098360655736,"d":"1.5"}},{"$f":"SUM(U10:W10)","v":{"v":1450.426229508197,"d":"1450.4"}},{"$f":"K10+T10+X10","v":{"v":14542.12786885246,"d":"14542.1"}}]
["организация отдыха детей в каникулярное время",null,65,{"$nulls":3},{"$f":"220.2-30.9","v":{"v":189.29999999999998,"d":"189.3"}},51.9,null,null,{"$f":"SUM(D11:J11)","v":241.2},{"$nulls":8},{"$f":"SUM(L11:S11)","v":{"v":0,"d":"0.0"}},{"$nulls":3},{"$f":"SUM(U11:W11)","v":{"v":0,"d":"0.0"}},{"$f":"K11+T11+X11","v":241.2}]
["Организация питания обучающихся",null,107,{"$nulls":3},{"$f":"909.3+66-212.5","v":762.8},{"$nulls":3},{"$f":"SUM(D12:J12)","v":762.8},{"$nulls":12},{"$f":"SUM(U12:W12)","v":{"v":0,"d":"0.0"}},{"$f":"K12+T12+X12","v":762.8}]
["итого",{"$f":"B9+B10+B11","v":{"v":1,"d":"100.0%"}},122,{"$f":"SUM(D9:D11)","v":9539.8},{"$f":"SUM(E9:E11)","v":0},{"$f":"SUM(F9:F11)","v":35.7},{"$f":"SUM(G9:G12)","v":{"v":952.0999999999999,"d":"952.1"}},{"$f":"SUM(H9:H11)","v":363.59999999999997},{"$f":"SUM(I9:I11)","v":28.3},{"$f":"SUM(J9:J11)","v":0},{"$f":"SUM(K9:K12)","v":10919.5},{"$f":"SUM(L9:L11)","v":5697.900000000001},12,403.7,{"$f":"SUM(O9:O11)","v":2901.4},46,4104,230,429,{"v":13824.000000000002,"d":"13824.0"},44.8,2901.4,3,2949.2,{"$f":"SUM(Y9:Y12)","v":{"v":27692.700000000004,"d":"27692.7"}}]
[]
[{"$nulls":5},26,325.8,311.7,28.3,null,null,{"$f":"6738.1-25.5-717.7-297","v":5697.900000000001},12,403.7,2901.4,46,4104,230,{"$f":"432-3","v":429},null,44.8,2901.4,3]
[{"$nulls":3},{"$f":"D13+L15","v":15237.7}]
[{"$nulls":24},30660.3]
[{"$nulls":16}," ",{"$nulls":7},{"$f":"Y17-Y13","v":2967.599999999995}]

{"sheet":"2020","index":4,"n_rows":17,"n_cols":25,"rows_kept":17,"merged":[[0,0,0,24],[1,0,1,16383],[2,0,2,24],[3,0,3,24],[5,0,6,0],[5,1,6,1],[5,2,6,2],[5,3,5,10],[5,11,5,19],[5,20,5,23],[5,24,6,24]]}
["Приложение №5"]
["                                                                                                                                                                                                                                                                                                                                                                 Приложение №5"]
["МБОУ \"Мугайская ООШ\""]
["Распределение нормативных затрат  на 2020г."]
[]
["наименование услуги","доля в %","кол. Учащ.","нормативные затраты, непосредственно связанные с оказанием муниц.услуги",{"$nulls":7},"Нормативные затраты на общехозяйственные нужды",{"$nulls":8},"Затраты    на содержание имущества",{"$nulls":3},"нормативные затраты на оказание услуг"]
[{"$nulls":3},"з/пл. за год + начисления учителей",null,"подвоз учащихся","продукты питания","учебные расходы","интернет",null,"итого","з/пл. за год + начисления прочего персонала","услуги связи","электроэнергия 90%","Теплоэнергия 50%","прочие ком. Услуги","расходы на содержание имущества","прочие услуги","приобретение материалов","итого","электроэнергия 10%","Теплоэнергия 50%","прочие расходы","итого"]
["Реализация программ начального общего образования",{"$f":"C8*100/111/100","v":{"v":0.5225225225225225,"d":"52.3%"}},58,4107.7,{"$nulls":3},{"$f":"H14*B8","v":{"v":175.93333333333334,"d":"175.9"}},{"$f":"I14*B8","v":{"v":14.787387387387387,"d":"14.8"}},null,{"$f":"SUM(D8:J8)","v":{"v":4298.420720720721,"d":"4298.4"}},{"$f":"L14*B8","v":{"v":3671.2954954954957,"d":"3671.3"}},{"$f":"M14*B8","v":{"v":6.792792792792793,"d":"6.8"}},{"$f":"N14*B8","v":{"v":210.94234234234233,"d":"210.9"}},{"$f":"O14*B8","v":{"v":1582.5900900900901,"d":"1582.59"}},{"$f":"P14*B8","v":{"v":24.036036036036037,"d":"24.0"}},{"$f":"Q14*B8","v":{"v":165.63963963963963,"d":"165.6"}},{"$f":"R14*B8","v":{"v":146.3063063063063,"d":"146.3"}},{"$f":"S14*B8","v":{"v":144.4252252252252,"d":"144.4"}},{"$f":"SUM(L8:S8)","v":{"v":5952.027927927928,"d":"5952.0"}},{"$f":"U14*B8","v":{"v":23.409009009009008,"d":"23.4"}},{"$f":"V14*B8","v":1582.5900900900901},{"$f":"W14*B8","v":{"v":0,"d":"0.0"}},{"$f":"SUM(U8:W8)","v":{"v":1605.999099099099,"d":"1606.0"}},{"$f":"K8+T8+X8","v":{"v":11856.447747747749,"d":"11856.4"}}]
["Реализация общеобразовательных программ основного общего образования",{"$f":"C9*100/111/100","v":{"v":0.47747747747747743,"d":"47.7%"}},53,7633.7,null,35.7,null,{"$f":"H14*B9","v":{"v":160.76666666666665,"d":"160.8"}},{"$f":"I14*B9","v":{"v":13.512612612612612,"d":"13.5"}},null,{"$f":"SUM(D9:J9)","v":{"v":7843.6792792792785,"d":"7843.7"}},{"$f":"L14*B9","v":{"v":3354.804504504504,"d":"3354.8"}},{"$f":"M14*B9","v":{"v":6.207207207207206,"d":"6.2"}},{"$f":"N14*B9","v":{"v":192.75765765765763,"d":"192.8"}},{"$f":"O14*B9","v":{"v":1446.1599099099099,"d":"1446.16"}},{"$f":"P14*B9","v":{"v":21.963963963963963,"d":"22.0"}},{"$f":"Q14*B9","v":{"v":151.36036036036035,"d":"151.4"}},{"$f":"R14*B9","v":{"v":133.6936936936937,"d":"133.7"}},{"$f":"S14*B9","v":{"v":131.97477477477474,"d":"132.0"}},{"$f":"SUM(L9:S9)","v":{"v":5438.922072072071,"d":"5438.9"}},{"$f":"U14*B9","v":{"v":21.39099099099099,"d":"21.4"}},{"$f":"V14*B9","v":1446.1599099099099},{"$f":"W14*B9","v":{"v":0,"d":"0.0"}},{"$f":"SUM(U9:W9)","v":{"v":1467.5509009009008,"d":"1467.6"}},{"$f":"K9+T9+X9","v":{"v":14750.15225225225,"d":"14750.2"}}]
["организация отдыха детей в каникулярное время",null,63,{"$nulls":3},259.1,53.8,null,null,{"$f":"SUM(D10:J10)","v":{"v":312.90000000000003,"d":"312.9"}},{"$nulls":8},{"$f":"SUM(L10:S10)","v":{"v":0,"d":"0.0"}},{"$nulls":3},{"$f":"SUM(U10:W10)","v":{"v":0,"d":"0.0"}},{"$f":"K10+T10+X10","v":{"v":312.90000000000003,"d":"312.9"}}]
["Организация питания обучающихся",null,95,{"$nulls":3},909.3,{"$nulls":3},{"$f":"SUM(D11:J11)","v":909.3},{"$nulls":12},{"$f":"SUM(U11:W11)","v":{"v":0,"d":"0.0"}},{"$f":"K11+T11+X11","v":909.3}]
["итого",{"$f":"B8+B9+B10","v":{"v":1,"d":"100.0%"}},111,{"$f":"D8+D9","v":11741.4},{"$f":"SUM(E8:E10)","v":0},31.1,{"$f":"SUM(G8:G11)","v":1168.4},{"$f":"SUM(H8:H10)","v":390.5},28.299999999999997,0,{"$f":"SUM(K8:K11)","v":{"v":13364.299999999997,"d":"13364.3"}},{"$f":"SUM(L8:L10)","v":7026.1},13,403.69999999999993,3028.75,46,317,280,276.4,{"v":11390.95,"d":"11391.0"},44.8,3028.75,0,{"v":3073.55,"d":"3073.6"},{"$f":"SUM(Y8:Y11)","v":27828.8}]
[]
[{"$nulls":5},24.3,783.1,336.7,28.3,null,null,7026.1,13,403.7,3028.75,46,317,280,276.4,null,44.8,3028.75,0]
[]
[{"$nulls":24},27828.8]
[{"$nulls":3},18686.8,{"$nulls":9},{"$f":"N12+O12+P12+U12+V12","v":6552},{"$nulls":10},{"$f":"Y16-Y12","v":0}]

{"sheet":"2021","index":5,"n_rows":17,"n_cols":25,"rows_kept":17,"merged":[[0,0,0,24],[1,0,1,24],[2,0,2,24],[3,0,3,24],[5,0,6,0],[5,1,6,1],[5,2,6,2],[5,3,5,10],[5,11,5,19],[5,20,5,23],[5,24,6,24]]}
["Приложение №6"]
[]
["МБОУ \"Мугайская ООШ\""]
["Распределение нормативных затрат  на 2021г."]
[]
["наименование услуги","доля в %","кол. Учащ.","нормативные затраты, непосредственно связанные с оказанием муниц.услуги",{"$nulls":7},"Нормативные затраты на общехозяйственные нужды",{"$nulls":8},"Затраты    на содержание имущества",{"$nulls":3},"нормативные затраты на оказание услуг"]
[{"$nulls":3},"з/пл. за год + начисления учителей",null,"подвоз учащихся","продукты питания","учебные расходы","интернет",null,"итого","з/пл. за год + начисления прочего персонала","услуги связи","электроэнергия 90%","Теплоэнергия 50%","прочие ком. Услуги","расходы на содержание имущества","прочие услуги","приобретение материалов","итого","электроэнергия 10%","Теплоэнергия 50%","прочие расходы","итого"]
["Реализация программ начального общего образования",{"$f":"C8*100/114/100","v":{"v":0.5087719298245613,"d":"50.9%"}},58,4272,{"$nulls":3},{"$f":"H14*B8","v":{"v":185.04035087719294,"d":"185.0"}},{"$f":"I14*B8","v":{"v":14.398245614035085,"d":"14.4"}},null,{"$f":"SUM(D8:J8)","v":{"v":4471.438596491228,"d":"4471.4"}},{"$f":"L14*B8","v":{"v":3837.1578947368416,"d":"3837.2"}},{"$f":"M14*B8","v":{"v":6.614035087719297,"d":"6.6"}},206.1,{"$f":"O14*B8","v":1562.4385964912278},{"$f":"P14*B8","v":{"v":25.438596491228065,"d":"25.4"}},{"$f":"Q14*B8","v":{"v":167.89473684210523,"d":"167.9"}},{"$f":"R14*B8","v":{"v":142.45614035087718,"d":"142.5"}},{"$f":"S14*B8","v":{"v":141.18421052631575,"d":"141.2"}},{"$f":"SUM(L8:S8)","v":{"v":6089.284210526314,"d":"6089.3"}},{"$f":"U14*B8","v":{"v":22.89473684210526,"d":"22.9"}},{"$f":"V14*B8","v":1562.4385964912278},{"$f":"W14*B8","v":{"v":0,"d":"0.0"}},{"$f":"SUM(U8:W8)","v":{"v":1585.333333333333,"d":"1585.3"}},{"v":12146,"d":"12146.0"}]
["Реализация общеобразовательных программ основного общего образования",{"$f":"C9*100/114/100","v":{"v":0.4912280701754386,"d":"49.1%"}},56,7939.1,null,35.7,null,{"$f":"H14*B9","v":{"v":178.65964912280702,"d":"178.7"}},{"$f":"I14*B9","v":{"v":13.901754385964914,"d":"13.9"}},null,{"$f":"SUM(D9:J9)","v":{"v":8167.361403508772,"d":"8167.4"}},{"$f":"L14*B9","v":{"v":3704.842105263158,"d":"3704.8"}},{"$f":"M14*B9","v":{"v":6.385964912280702,"d":"6.4"}},{"$f":"N14*B9","v":{"v":198.94736842105263,"d":"198.9"}},{"$f":"O14*B9","v":1508.561403508772},{"$f":"P14*B9","v":{"v":24.56140350877193,"d":"24.6"}},{"$f":"Q14*B9","v":{"v":162.10526315789474,"d":"162.1"}},{"$f":"R14*B9","v":{"v":137.54385964912282,"d":"137.5"}},{"$f":"S14*B9","v":{"v":136.31578947368422,"d":"136.3"}},{"$f":"SUM(L9:S9)","v":{"v":5879.263157894738,"d":"5879.3"}},{"$f":"U14*B9","v":{"v":22.10526315789474,"d":"22.1"}},{"$f":"V14*B9","v":1508.561403508772},{"$f":"W14*B9","v":{"v":0,"d":"0.0"}},{"$f":"SUM(U9:W9)","v":{"v":1530.6666666666667,"d":"1530.7"}},{"$f":"K9+T9+X9","v":{"v":15577.291228070177,"d":"15577.3"}}]
["организация отдыха детей в каникулярное время",null,60,{"$nulls":3},269.3,58.5,null,null,{"$f":"SUM(D10:J10)","v":327.8},{"v":0,"d":"0.0"},{"$nulls":7},{"$f":"SUM(L10:S10)","v":{"v":0,"d":"0.0"}},{"$nulls":3},{"$f":"SUM(U10:W10)","v":{"v":0,"d":"0.0"}},{"$f":"K10+T10+X10","v":327.8}]
["Организация питания обучающихся",null,98,{"$nulls":3},909.3,{"$nulls":3},{"$f":"SUM(D11:J11)","v":909.3},{"$nulls":12},{"$f":"SUM(U11:W11)","v":{"v":0,"d":"0.0"}},{"$f":"K11+T11+X11","v":909.3}]
["итого",{"$f":"B8+B9+B10","v":{"v":1,"d":"100.0%"}},114,{"$f":"SUM(D8:D10)","v":12211.1},{"$f":"SUM(E8:E10)","v":0},{"$f":"SUM(F8:F10)","v":35.7},{"$f":"SUM(G8:G11)","v":1178.6},{"$f":"SUM(H8:H10)","v":422.19999999999993},28.299999999999997,0,{"$f":"SUM(K8:K11)","v":{"v":13875.899999999998,"d":"13875.9"}},{"$f":"SUM(L8:L10)","v":{"v":7542,"d":"7542.0"}},13,405.0473684210526,3071,50,330,280,277.5,{"v":11968.547368421052,"d":"11968.5"},45,3071,0,{"v":3116,"d":"3116.0"},{"$f":"SUM(Y8:Y11)","v":{"v":28960.391228070177,"d":"28960.4"}}]
[]
[{"$nulls":6},764.8,363.7,28.3,null,null,7542,13,405,3071,50,330,280,277.5,null,45,3071,0]
[]
[{"$nulls":3},19753.1,{"$nulls":20},28960.4]
[{"$nulls":11},{"$f":"N14+O14+P14+U14+V14","v":6642},{"$nulls":4}," ",{"$nulls":7},{"$f":"Y16-Y12","v":0.008771929824433755}]